BEGIN:VCALENDAR
VERSION:2.0
PRODID:-//SIMONHOLT Restaurant | FOOD, DRINK, LIVE MUSIC - ECPv6.2.9//NONSGML v1.0//EN
CALSCALE:GREGORIAN
METHOD:PUBLISH
X-WR-CALNAME:SIMONHOLT Restaurant | FOOD, DRINK, LIVE MUSIC
X-ORIGINAL-URL:https://www.simonholt.ca
X-WR-CALDESC:Events for SIMONHOLT Restaurant | FOOD, DRINK, LIVE MUSIC
REFRESH-INTERVAL;VALUE=DURATION:PT1H
X-Robots-Tag:noindex
X-PUBLISHED-TTL:PT1H
BEGIN:VTIMEZONE
TZID:America/Vancouver
BEGIN:DAYLIGHT
TZOFFSETFROM:-0800
TZOFFSETTO:-0700
TZNAME:PDT
DTSTART:20260308T100000
END:DAYLIGHT
BEGIN:STANDARD
TZOFFSETFROM:-0700
TZOFFSETTO:-0800
TZNAME:PST
DTSTART:20261101T090000
END:STANDARD
END:VTIMEZONE
BEGIN:VEVENT
DTSTART;TZID=America/Vancouver:20260218T080000
DTEND;TZID=America/Vancouver:20260218T170000
DTSTAMP:20260420T120744
CREATED:20260127T193317Z
LAST-MODIFIED:20260127T193317Z
UID:5824-1771401600-1771434000@www.simonholt.ca
SUMMARY:Jacob Chung Quartet at Simonholt Restaurant
DESCRIPTION:Simonholt is very pleased to announce that Quadwrangle Music is\ncombining forces with The Friends of the Nanaimo Jazz Society to bring\nthe extraordinary Jacob Chung Quartet back to Nanaimo from New York at\nthe Simonholt Restaurant Feb. 18th. 7:30pm. \nFor those who have not had the experience of seeing Jacob’s Quartet in\naction\, this is your chance! Tenor saxophonist Jacob moved from Toronto\nto New York City in 2022\, after releasing his debut album Epistle\, to\nstudy with Vincent Herring. He has since performed with Ken Peplowski\,\nthe John Pizzarelli Big Band\, the Mingus Big Band\, and Pasquale Grasso\nto name a few. With the Cellar Music label\, Chung has released two\nalbums: The Sage\, featuring Herring and drummer Joe Farnsworth\, in 2024\nand Live at Frankie’s Jazz Club in 2025. Jacob was also awarded\n“Outstanding Soloist” in Downbeat Magazine in 2024.\nThe show will open with a set by the Wellington Jazz Academy jazz\nstudents\, under the leadership of Carmella Luvisotto\, whose generous\nspirit and dedication to her students has resulted in some of Canada’s\nleading players emerging from her focused tutelage. \nTickets are $30.00 (students\, Quadwrangle Regulars and NIJFA subscribers\n$20.00)\, available from Simonholt (250) 933-3338.
URL:https://www.simonholt.ca/event/jacob-chung-quartet-at-simonholt-restaurant/
LOCATION:SIMONHOLT Food\, Drink & Live Music Restaurant\, 6582 Applecross Road\, Nanaimo\, British Columbia\, V9V 0A4\, Canada
CATEGORIES:Live Music Events
ATTACH;FMTTYPE=image/jpeg:https://www.simonholt.ca/wp-content/uploads/2026/01/Screenshot-2026-01-19-105728.jpg
END:VEVENT
BEGIN:VEVENT
DTSTART;TZID=America/Vancouver:20260214T160000
DTEND;TZID=America/Vancouver:20260214T200000
DTSTAMP:20260420T120744
CREATED:20260125T174613Z
LAST-MODIFIED:20260125T174613Z
UID:5821-1771084800-1771099200@www.simonholt.ca
SUMMARY:Simonholt 2026 Valentines Day Menu
DESCRIPTION:
URL:https://www.simonholt.ca/event/simonholt-2026-valentines-day-menu/
LOCATION:SIMONHOLT Food\, Drink & Live Music Restaurant\, 6582 Applecross Road\, Nanaimo\, British Columbia\, V9V 0A4\, Canada
CATEGORIES:Celebrations
END:VEVENT
END:VCALENDAR