BEGIN:VCALENDAR
VERSION:2.0
PRODID:-//SIMONHOLT Restaurant | FOOD, DRINK, LIVE MUSIC - ECPv6.2.9//NONSGML v1.0//EN
CALSCALE:GREGORIAN
METHOD:PUBLISH
X-ORIGINAL-URL:https://www.simonholt.ca
X-WR-CALDESC:Events for SIMONHOLT Restaurant | FOOD, DRINK, LIVE MUSIC
REFRESH-INTERVAL;VALUE=DURATION:PT1H
X-Robots-Tag:noindex
X-PUBLISHED-TTL:PT1H
BEGIN:VTIMEZONE
TZID:America/Vancouver
BEGIN:DAYLIGHT
TZOFFSETFROM:-0800
TZOFFSETTO:-0700
TZNAME:PDT
DTSTART:20260308T100000
END:DAYLIGHT
BEGIN:STANDARD
TZOFFSETFROM:-0700
TZOFFSETTO:-0800
TZNAME:PST
DTSTART:20261101T090000
END:STANDARD
END:VTIMEZONE
BEGIN:VEVENT
DTSTART;TZID=America/Vancouver:20260419T193000
DTEND;TZID=America/Vancouver:20260419T213000
DTSTAMP:20260420T082556
CREATED:20260320T210804Z
LAST-MODIFIED:20260320T210804Z
UID:5832-1776627000-1776634200@www.simonholt.ca
SUMMARY:The JOHN MOULDER Quintet at Simonholt Restaurant
DESCRIPTION:The JOHN MOULDER Quintet\nWe are thrilled to be presenting one of the finest and most unique jazz\nguitarists in North America\, John Moulder\, to Vancouver Island. John who\nrecords with some of the worlds most accomplished jazz musicians\,\nincluding Pat Metheny’s rhythm section\, will be playing with in a\nQuintet featuring some of Canada’s leading players\, Ryan Oliver\n(saxes.)\, Nick Peck (piano/keys)\, Ken Lister (bass) and John Miller\n(drums). \nJohn Moulder is a guitarist and composer whose music has evolved from an\nassimilation of various musical traditions such that David Rickert from\nAll About Jazz wrote\, “Moulder has a distinct and exciting approach that\nensures that his albums sound like nothing else out there. An ingenious\nimproviser with a seemingly endless instinct for variety\, he is\ndefinitely one to watch.” His most recent release entitled Metamorphosis\n(Origin 2022) features Richie Beirach\, Steve Rodby\, Paul Wertico with\nnew compositions penned by Moulder and described by British poet and\nessayist Raul da Gama as\, “an album of music to die for.” \nIn the course of his career\, John is grateful to have performed\nnationally and internationally\, and played with many talented musicians\,\nboth known and unknown. In live performances and recordings\, John has\nperformed with diverse artists such as Lyle Mays\, Niels Orsted Pederson\n\, Eddie Harris\, Bob Mintzer\, Paul McCandless\, Paul Wertico\, Kurt Elling\,\nArild Anderson and Bendik Hofseth. \nFrom his hometown of Chicago\, he has performed with creative musicians\ntoo numerous to mention and enjoys collaborating with them on various\nprojects. As an educator\, he is currently a faculty member within the\njazz studies’ departments at Northwestern University and the College of\nthe Performing Arts at Roosevelt University/Chicago. \nWe are very pleased to bring John Moulder to Vancouver Island and back\nhim with some of Canada’s best jazz players.\nTickets are $35.00. Available from Simonholt (250) 933-3338
URL:https://www.simonholt.ca/event/the-john-moulder-quintet-at-simonholt-restaurant/
LOCATION:SIMONHOLT Food\, Drink & Live Music Restaurant\, 6582 Applecross Road\, Nanaimo\, British Columbia\, V9V 0A4\, Canada
CATEGORIES:Live Music Events
ATTACH;FMTTYPE=image/jpeg:https://www.simonholt.ca/wp-content/uploads/2026/03/johnm1.jpg
END:VEVENT
END:VCALENDAR