BEGIN:VCALENDAR
VERSION:2.0
PRODID:-//SIMONHOLT Restaurant | FOOD, DRINK, LIVE MUSIC - ECPv6.2.9//NONSGML v1.0//EN
CALSCALE:GREGORIAN
METHOD:PUBLISH
X-WR-CALNAME:SIMONHOLT Restaurant | FOOD, DRINK, LIVE MUSIC
X-ORIGINAL-URL:https://www.simonholt.ca
X-WR-CALDESC:Events for SIMONHOLT Restaurant | FOOD, DRINK, LIVE MUSIC
REFRESH-INTERVAL;VALUE=DURATION:PT1H
X-Robots-Tag:noindex
X-PUBLISHED-TTL:PT1H
BEGIN:VTIMEZONE
TZID:America/Vancouver
BEGIN:DAYLIGHT
TZOFFSETFROM:-0800
TZOFFSETTO:-0700
TZNAME:PDT
DTSTART:20260308T100000
END:DAYLIGHT
BEGIN:STANDARD
TZOFFSETFROM:-0700
TZOFFSETTO:-0800
TZNAME:PST
DTSTART:20261101T090000
END:STANDARD
END:VTIMEZONE
BEGIN:VEVENT
DTSTART;TZID=America/Vancouver:20260308T193000
DTEND;TZID=America/Vancouver:20260308T213000
DTSTAMP:20260420T102658
CREATED:20260223T211303Z
LAST-MODIFIED:20260223T211738Z
UID:5828-1772998200-1773005400@www.simonholt.ca
SUMMARY:Carl Mayotte Quintet at Simonholt Restaurant
DESCRIPTION:Simonholt is more than thrilled to present the Carl Mayotte Quintet\nfor their first visit to Nanaimo from Montreal\, at the Simonholt\nRestaurant\, March 8th. 7:30pm . \nCarl is an Award Winning electric bassist and is playing with his\nQuintet featuring: Carl Mayotte (bass and compositions)\, Gabriel Cyr\n(guitar)\, Damien-Jade Cyr (saxes)\, Francis Grégoire (Keys) and Stephane\nChamberland (drums). Believe me\, there are no passengers in this superb\nband!  This is jazz fusion at its very best and a special look out for\nguitarist Gabriel Cyr\, who is a superb player in the Larry Carlton\nstyle! \nWinner of the 2020-2021 Jazz Radio-Canada Revelation title\, Carl Mayotte\nis one of the most prominent young bassists and jazz musicians in Quebec\nand Canada at the moment. Having started his professional career at the\nage of 16 and completed a master’s degree in jazz performance at McGill\nUniversity\, his virtuosity and versatility have been recognized by\nseveral musicians and critics\, from Alain Caron to Bass Magazine. His\nthird album\, “Escale\,” earned him a Felix Award for Jazz Album of the\nYear in 2022. In addition\, in the summer of 2022\, he established a new\njazz music camp in Kamouraska\, bringing together musicians of all ages\nand skill levels. One of the young musician’s goals is to democratize\njazz and bring this musical genre to the forefront. He has just released\nhis fourth album\, an ode to Brazilian music. \nTickets are $30.00 (students\, Quadwrangle Regulars and NIJFA Subscribers\n$25.00) available from Simonhot (250) 933-3338.
URL:https://www.simonholt.ca/event/carl-mayotte-quintet-at-simonholt-restaurant/
LOCATION:SIMONHOLT Food\, Drink & Live Music Restaurant\, 6582 Applecross Road\, Nanaimo\, British Columbia\, V9V 0A4\, Canada
CATEGORIES:Live Music Events
ATTACH;FMTTYPE=image/jpeg:https://www.simonholt.ca/wp-content/uploads/2026/02/Screenshot-2026-02-21-055126.jpg
END:VEVENT
END:VCALENDAR